BEGIN:VCALENDAR
VERSION:2.0
PRODID:-//Dott.ssa Silvia Bianchi - ECPv6.3.1//NONSGML v1.0//EN
CALSCALE:GREGORIAN
METHOD:PUBLISH
X-ORIGINAL-URL:https://www.mindfulnessemeditazione.com
X-WR-CALDESC:Eventi per Dott.ssa Silvia Bianchi
REFRESH-INTERVAL;VALUE=DURATION:PT1H
X-Robots-Tag:noindex
X-PUBLISHED-TTL:PT1H
BEGIN:VTIMEZONE
TZID:Europe/Rome
BEGIN:DAYLIGHT
TZOFFSETFROM:+0100
TZOFFSETTO:+0200
TZNAME:CEST
DTSTART:20230326T010000
END:DAYLIGHT
BEGIN:STANDARD
TZOFFSETFROM:+0200
TZOFFSETTO:+0100
TZNAME:CET
DTSTART:20231029T010000
END:STANDARD
BEGIN:DAYLIGHT
TZOFFSETFROM:+0100
TZOFFSETTO:+0200
TZNAME:CEST
DTSTART:20240331T010000
END:DAYLIGHT
BEGIN:STANDARD
TZOFFSETFROM:+0200
TZOFFSETTO:+0100
TZNAME:CET
DTSTART:20241027T010000
END:STANDARD
END:VTIMEZONE
BEGIN:VEVENT
DTSTART;TZID=Europe/Rome:20231001T000000
DTEND;TZID=Europe/Rome:20240321T000000
DTSTAMP:20260423T135744
CREATED:20231006T103337Z
LAST-MODIFIED:20240322T102351Z
UID:4711-1696118400-1710979200@www.mindfulnessemeditazione.com
SUMMARY:Fine vita: stati di coscienza\, antiche tradizioni e nuove terapie: a ottobre il corso di perfezionamento
DESCRIPTION:Da ottobre a marzo si terrà il corso di perfezionamento in “Fine vita: stati di coscienza\, antiche tradizioni e nuove terapie“\, organizzato nell’ambito di una convenzione fra l’Università di Pisa e l’Istituto Lama Tzong Khapa di Pomaia. \n\n\n\nObiettivo del corso:\n\n\n\nIl corso vuole essere uno strumento per fornire competenze sul tema del fine vita basate sia sulla rivisitazione delle moderne acquisizioni scientifiche relative alla coscienza\, al rapporto mente-corpo e alla sua fase terminale\, sia sulle antiche tradizioni sapienziali nate e sviluppatesi in Oriente e in Occidente. \n\n\n\nStruttura del corso:\n\n\n\n\n12 CFU\n\n\n\n112 ore di lezione\n\n\n\n3 week end in presenza\, per 48 ore esperenziali\, presso\n\n\n\nl’Istituto Lama Tzong Khapa di Pomaia\n\n\n\n6 week end di lezioni online per un totale di 64 ore\n\n\n\n\nInformazioni:\n\n\n\n\nNecessaria la presenza per almeno il 70% del monte ore.\n\n\n\nLimite per la domanda di iscrizione: 29 Settembre 2023\n\n\n\nPer scoprire i requisiti di ammissione\, costo iscrizione e ulteriori dettagli\, fare riferimento a:ciro.conversano@unipi.ittania.re77@gmail.com\n\n\n\n\nLink al bando:\n\n\n\nhttps://www.unipi.it/index.php/corsi-di-perfezionamento/item/26328-fine-vita-stati-di-coscienza-antiche-tradizioni-e-nuove-terapie \n\n\n\nMateriale da visualizzare:\n\n\n\n\nPresentazione online del Corso di Perfezionamento\n\n\n\nDettagli del Corso di Perfezionamento\n\n \nMateriale da scaricare\n\n\n \n\nCompassione – Bridging Practice and Science\n\n\n\nDoc 3 2006 – Intorno alle ultime cose – Video RaiPlay\n\n\n\nArticoli Mindfulness e fine vita\n\n\n\nMindfulness Commpassion and palliative care\, suicidio … e altro\n\n\n\nQuaderno MBSR\n\n\n\nCorso Online Mindfulness 10 minuti al giorno\n\n\n\nMindfulness e lutto
URL:https://www.mindfulnessemeditazione.com/evento/fine-vita-stati-di-coscienza-antiche-tradizioni-e-nuove-terapie-a-ottobre-il-corso-di-perfezionamento/
CATEGORIES:Corsi Esterni
ATTACH;FMTTYPE=image/jpeg:https://www.mindfulnessemeditazione.com/wp-content/uploads/2023/08/fine-vita-stati-di-coscienza-antiche-tradizioni-e-nuove-terapie-a-ottobre-il-corso-di-perfezionamento-2.jpg
END:VEVENT
END:VCALENDAR