BEGIN:VCALENDAR
VERSION:2.0
PRODID:-//Dott.ssa Silvia Bianchi - ECPv6.3.1//NONSGML v1.0//EN
CALSCALE:GREGORIAN
METHOD:PUBLISH
X-ORIGINAL-URL:https://www.mindfulnessemeditazione.com
X-WR-CALDESC:Eventi per Dott.ssa Silvia Bianchi
REFRESH-INTERVAL;VALUE=DURATION:PT1H
X-Robots-Tag:noindex
X-PUBLISHED-TTL:PT1H
BEGIN:VTIMEZONE
TZID:Europe/Rome
BEGIN:DAYLIGHT
TZOFFSETFROM:+0100
TZOFFSETTO:+0200
TZNAME:CEST
DTSTART:20240331T010000
END:DAYLIGHT
BEGIN:STANDARD
TZOFFSETFROM:+0200
TZOFFSETTO:+0100
TZNAME:CET
DTSTART:20241027T010000
END:STANDARD
BEGIN:DAYLIGHT
TZOFFSETFROM:+0100
TZOFFSETTO:+0200
TZNAME:CEST
DTSTART:20250330T010000
END:DAYLIGHT
BEGIN:STANDARD
TZOFFSETFROM:+0200
TZOFFSETTO:+0100
TZNAME:CET
DTSTART:20251026T010000
END:STANDARD
END:VTIMEZONE
BEGIN:VEVENT
DTSTART;TZID=Europe/Rome:20241004T000000
DTEND;TZID=Europe/Rome:20250330T000000
DTSTAMP:20260423T112332
CREATED:20240806T073514Z
LAST-MODIFIED:20240806T073724Z
UID:5229-1728000000-1743292800@www.mindfulnessemeditazione.com
SUMMARY:Fine vita: stati di coscienza\, antiche tradizioni e nuove terapie. A ottobre il corso di perfezionamento
DESCRIPTION:Da ottobre a marzo si terrà il corso di perfezionamento in “Fine vita: stati di coscienza\, antiche tradizioni e nuove terapie“\, organizzato nell’ambito di una convenzione fra l’Università di Pisa e l’Istituto Lama Tzong Khapa di Pomaia. \n\n\n\nObiettivo del corso:\n\n\n\nIl corso vuole essere uno strumento per fornire competenze sul tema del fine vita basate sia sulla rivisitazione delle moderne acquisizioni scientifiche relative alla coscienza\, al rapporto mente-corpo e alla sua fase terminale\, sia sulle antiche tradizioni sapienziali nate e sviluppatesi in Oriente e in Occidente. \n\n\n\nStruttura del corso:\n\n\n\n\n12 CFU\n\n\n\n124 ore di lezione\n\n\n\n4 week end in presenza\, presso l’Istituto Lama Tzong Khapa di Pomaia\n\n\n\n\n\n5 week end di lezioni online per un totale di 64 ore\n\n\n\n\nInformazioni:\n\n\n\n\nNecessaria la presenza per almeno il 70% del monte ore.\n\n\n\nLimite per la domanda di iscrizione: 16 Settembre 2024\n\n\n\nPer scoprire i requisiti di ammissione\, costo iscrizione e ulteriori dettagli\, fare riferimento a:ciro.conversano@unipi.ittania.re77@gmail.comTel: 050 993654\n\nMateriale\n\nScarica la Locandina\n\n\nScarica il BANDO (Perfezionamento Fine vita)\n\n\n\n\n  \n\n \nMateriale da consultare\n\n\n \n\nCompassione – Bridging Practice and Science\n\n\n\nDoc 3 2006 – Intorno alle ultime cose – Video RaiPlay\n\n\n\nArticoli Mindfulness e fine vita\n\n\n\nMindfulness Commpassion and palliative care\, suicidio … e altro\n\n\n\nQuaderno MBSR\n\n\n\nCorso Online Mindfulness 10 minuti al giorno\n\n\n\nMindfulness e lutto
URL:https://www.mindfulnessemeditazione.com/evento/corso-perfezionamento-fine-vita/
CATEGORIES:Corsi Esterni
ATTACH;FMTTYPE=image/jpeg:https://www.mindfulnessemeditazione.com/wp-content/uploads/2024/08/corso-perfezionamento-fine-vita.jpg
END:VEVENT
END:VCALENDAR